BEGIN:VCALENDAR
VERSION:2.0
PRODID:-//New Haven Raccoon Club - ECPv6.15.20//NONSGML v1.0//EN
CALSCALE:GREGORIAN
METHOD:PUBLISH
X-ORIGINAL-URL:https://www.nhraccoonclub.com
X-WR-CALDESC:Events for New Haven Raccoon Club
REFRESH-INTERVAL;VALUE=DURATION:PT1H
X-Robots-Tag:noindex
X-PUBLISHED-TTL:PT1H
BEGIN:VTIMEZONE
TZID:America/New_York
BEGIN:DAYLIGHT
TZOFFSETFROM:-0500
TZOFFSETTO:-0400
TZNAME:EDT
DTSTART:20250309T070000
END:DAYLIGHT
BEGIN:STANDARD
TZOFFSETFROM:-0400
TZOFFSETTO:-0500
TZNAME:EST
DTSTART:20251102T060000
END:STANDARD
BEGIN:DAYLIGHT
TZOFFSETFROM:-0500
TZOFFSETTO:-0400
TZNAME:EDT
DTSTART:20260308T070000
END:DAYLIGHT
BEGIN:STANDARD
TZOFFSETFROM:-0400
TZOFFSETTO:-0500
TZNAME:EST
DTSTART:20261101T060000
END:STANDARD
BEGIN:DAYLIGHT
TZOFFSETFROM:-0500
TZOFFSETTO:-0400
TZNAME:EDT
DTSTART:20270314T070000
END:DAYLIGHT
BEGIN:STANDARD
TZOFFSETFROM:-0400
TZOFFSETTO:-0500
TZNAME:EST
DTSTART:20271107T060000
END:STANDARD
END:VTIMEZONE
BEGIN:VEVENT
DTSTART;TZID=America/New_York:20260830T080000
DTEND;TZID=America/New_York:20260830T170000
DTSTAMP:20260421T215716
CREATED:20260422T011424Z
LAST-MODIFIED:20260422T011424Z
UID:757-1788076800-1788109200@www.nhraccoonclub.com
SUMMARY:Action Pistol Shoot
DESCRIPTION:The New Haven Racoon Club will be having an Action Pistol Shoot on Sunday April 26th. Setup will begin at 8 AM and shooting will start around 9 AM. Cost to participate is $10. The course of fire is usually shot with under 100 rounds. Make sure to have some spare magazines\, eye protection and ear protection. A belt mounted holster is ideal but a HG case that can be safely transported to the firing line will do. 
URL:https://www.nhraccoonclub.com/event/action-pistol-shoot-4/
LOCATION:New Haven Raccoon Club\, 853 New Haven Road\, Durham\, CT\, 06412\, United States
ATTACH;FMTTYPE=image/jpeg:https://www.nhraccoonclub.com/wp-content/uploads/2022/01/image-296x300-1.jpg
END:VEVENT
BEGIN:VEVENT
DTSTART;TZID=America/New_York:20260913T050000
DTEND;TZID=America/New_York:20260913T080000
DTSTAMP:20260421T215716
CREATED:20250920T185450Z
LAST-MODIFIED:20260422T011627Z
UID:648-1789275600-1789286400@www.nhraccoonclub.com
SUMMARY:Precision Rifle Action Shoot for St. Jude's
DESCRIPTION:We are pleased to announce a new fundraising event for St. Jude Children’s Research Hospital. \nSunday\, September 13th\, the Raccoon Club will be hosting a Precision Rifle Action Shoot\, starting at 9:00 AM. \nThis event is open to any scoped bolt-action rifle. We will have rifles and ammunition available for those who may not have the necessary equipment. Instruction and coaching will also be provided for anyone who would like some guidance. \n\nDate: Sunday\, September 13\, 2026\nStart Time: 9:00 AM\nCost to Shoot: $10\n\nWe are excited to add this shoot to our St. Jude fundraising events and look forward to seeing many of you join us for a fun day supporting a great cause. \nAny questions\,\nCraig – (203) 257-4596
URL:https://www.nhraccoonclub.com/event/precision-rifle-action-shoot-for-st-judes/
LOCATION:New Haven Raccoon Club\, 853 New Haven Road\, Durham\, CT\, 06412\, United States
ATTACH;FMTTYPE=image/png:https://www.nhraccoonclub.com/wp-content/uploads/2022/04/c58d0325-65f0-db0c-2e07-66388b7ccd81.png
END:VEVENT
BEGIN:VEVENT
DTSTART;TZID=America/New_York:20260914T190000
DTEND;TZID=America/New_York:20260914T210000
DTSTAMP:20260421T215716
CREATED:20220123T224107Z
LAST-MODIFIED:20260303T153752Z
UID:114-1789412400-1789419600@www.nhraccoonclub.com
SUMMARY:Membership Meeting
DESCRIPTION:
URL:https://www.nhraccoonclub.com/event/membership-meeting-8/
LOCATION:New Haven Raccoon Club\, 853 New Haven Road\, Durham\, CT\, 06412\, United States
ORGANIZER;CN="Stephen Ferriola":MAILTO:stephenferriola@gmail.com
END:VEVENT
BEGIN:VEVENT
DTSTART;TZID=America/New_York:20260927T080000
DTEND;TZID=America/New_York:20260927T170000
DTSTAMP:20260421T215716
CREATED:20260422T011726Z
LAST-MODIFIED:20260422T011726Z
UID:761-1790496000-1790528400@www.nhraccoonclub.com
SUMMARY:Action Pistol Shoot
DESCRIPTION:The New Haven Racoon Club will be having an Action Pistol Shoot on Sunday Sept 27th. Setup will begin at 8 AM and shooting will start around 9 AM. Cost to participate is $10. The course of fire is usually shot with under 100 rounds. Make sure to have some spare magazines\, eye protection and ear protection. A belt mounted holster is ideal but a HG case that can be safely transported to the firing line will do. 
URL:https://www.nhraccoonclub.com/event/action-pistol-shoot-5/
LOCATION:CT
END:VEVENT
BEGIN:VEVENT
DTSTART;TZID=America/New_York:20261004T090000
DTEND;TZID=America/New_York:20261004T130000
DTSTAMP:20260421T215716
CREATED:20260422T011839Z
LAST-MODIFIED:20260422T011839Z
UID:763-1791104400-1791118800@www.nhraccoonclub.com
SUMMARY:Military Rifle Shoot
DESCRIPTION:Semi and Bolt
URL:https://www.nhraccoonclub.com/event/military-rifle-shoot-3/
LOCATION:New Haven Raccoon Club\, 853 New Haven Road\, Durham\, CT\, 06412\, United States
END:VEVENT
BEGIN:VEVENT
DTSTART;TZID=America/New_York:20261012T190000
DTEND;TZID=America/New_York:20261012T210000
DTSTAMP:20260421T215716
CREATED:20220123T224403Z
LAST-MODIFIED:20260303T153810Z
UID:116-1791831600-1791838800@www.nhraccoonclub.com
SUMMARY:Membership Meeting
DESCRIPTION:
URL:https://www.nhraccoonclub.com/event/membership-meeting-9/
LOCATION:New Haven Raccoon Club\, 853 New Haven Road\, Durham\, CT\, 06412\, United States
ORGANIZER;CN="Stephen Ferriola":MAILTO:stephenferriola@gmail.com
END:VEVENT
BEGIN:VEVENT
DTSTART;TZID=America/New_York:20261025T090000
DTEND;TZID=America/New_York:20261025T140000
DTSTAMP:20260421T215716
CREATED:20230101T053637Z
LAST-MODIFIED:20260303T153828Z
UID:165-1792918800-1792936800@www.nhraccoonclub.com
SUMMARY:NHRC Turkey & Youth Shoot
DESCRIPTION:Turkey Shoot \nCourse of fire is as follows: \nShots are made at a paper target at 30 yards. Highest score wins a Turkey. \nTargets are $3.00 per shot\, guns and ammunition will be provided.  Personal guns are allowed but only with full choke. \nYouth Shoot \nWe will also be holding a Youth .22 Shoot.  Metal at Balloon targets will be shot at various yardages. This Event is free to all youths\, guns and ammo will be provided. \nPrizes will be awarded. \n  \n 
URL:https://www.nhraccoonclub.com/event/nhrc-turkey-youth-shoot/
LOCATION:New Haven Raccoon Club\, 853 New Haven Road\, Durham\, CT\, 06412\, United States
ATTACH;FMTTYPE=image/webp:https://www.nhraccoonclub.com/wp-content/uploads/2022/03/c0025212-5f39-4023-b626-0da1563a426c-Turkeys_DNR_photo_contributed_photo.jpg.webp
ORGANIZER;CN="Stephen Ferriola":MAILTO:stephenferriola@gmail.com
END:VEVENT
BEGIN:VEVENT
DTSTART;TZID=America/New_York:20261101T090000
DTEND;TZID=America/New_York:20261101T130000
DTSTAMP:20260421T215716
CREATED:20220124T014211Z
LAST-MODIFIED:20260303T153842Z
UID:141-1793523600-1793538000@www.nhraccoonclub.com
SUMMARY:Steve Russo M1 Garand Memorial Shoot
DESCRIPTION:This event is held in memory of Steve Russo \nAll As Issued M1 Garand Rifles with iron sites only are welcome. \nCost: $10.00 per person \nAwards given to High Score (1st\, 2nd & 3rd Place) \nRegistration will begin at 8am and last registration accepted at 12pm. \nAll proceeds are donated to our local Leukemia Foundation.
URL:https://www.nhraccoonclub.com/event/steve-russo-m1-garand-memorial-shoot/
LOCATION:New Haven Raccoon Club\, 853 New Haven Road\, Durham\, CT\, 06412\, United States
END:VEVENT
BEGIN:VEVENT
DTSTART;TZID=America/New_York:20261109T190000
DTEND;TZID=America/New_York:20261109T210000
DTSTAMP:20260421T215716
CREATED:20220123T224533Z
LAST-MODIFIED:20260303T153857Z
UID:118-1794250800-1794258000@www.nhraccoonclub.com
SUMMARY:Membership Meeting
DESCRIPTION:
URL:https://www.nhraccoonclub.com/event/membership-meeting-10/
LOCATION:New Haven Raccoon Club\, 853 New Haven Road\, Durham\, CT\, 06412\, United States
ORGANIZER;CN="Stephen Ferriola":MAILTO:stephenferriola@gmail.com
END:VEVENT
BEGIN:VEVENT
DTSTART;TZID=America/New_York:20261122T090000
DTEND;TZID=America/New_York:20261122T130000
DTSTAMP:20260421T215716
CREATED:20260422T012138Z
LAST-MODIFIED:20260422T012138Z
UID:765-1795338000-1795352400@www.nhraccoonclub.com
SUMMARY:Action Pistol Shoot
DESCRIPTION:The New Haven Racoon Club will be having an Action Pistol Shoot on Sunday Nov 22nd. Setup will begin at 8 AM and shooting will start around 9 AM. Cost to participate is $10. The course of fire is usually shot with under 100 rounds. Make sure to have some spare magazines\, eye protection and ear protection. A belt mounted holster is ideal but a HG case that can be safely transported to the firing line will do. 
URL:https://www.nhraccoonclub.com/event/action-pistol-shoot-6/
LOCATION:New Haven Raccoon Club\, 853 New Haven Road\, Durham\, CT\, 06412\, United States
ATTACH;FMTTYPE=image/jpeg:https://www.nhraccoonclub.com/wp-content/uploads/2022/01/image-296x300-1.jpg
END:VEVENT
BEGIN:VEVENT
DTSTART;TZID=America/New_York:20261214T190000
DTEND;TZID=America/New_York:20261214T210000
DTSTAMP:20260421T215716
CREATED:20220123T224628Z
LAST-MODIFIED:20260303T153913Z
UID:120-1797274800-1797282000@www.nhraccoonclub.com
SUMMARY:Membership Meeting
DESCRIPTION:
URL:https://www.nhraccoonclub.com/event/membership-meeting-11/
LOCATION:New Haven Raccoon Club\, 853 New Haven Road\, Durham\, CT\, 06412\, United States
ORGANIZER;CN="Stephen Ferriola":MAILTO:stephenferriola@gmail.com
END:VEVENT
END:VCALENDAR